Workbook

Sheet Biodata
A1: INSTRUMEN VALIDASI
A2: KURIKULUM OPERASIONAL SATUAN PENDIDIKAN SMK PUSAT UNGGULAN
A3: TAHUN PELAJARAN 2021/2022
A6: A. | B6: IDENTITAS SEKOLAH
A7: 1. | B7: Nama Sekolah | D7: :
A8: 2. | B8: NPSN | D8: :
A9: 3. | B9: Alamat Sekolah
B10: a. | C10: Jalan | D10: :
B11: b. | C11: Desa/Kelurahan | D11: :
B12: c. | C12: Kecamatan | D12: :
B13: d. | C13: Kota | D13: :
B14: e. | C14: Telepon | D14: :
B15: f. | C15: Faks. | D15: :
B16: g. | C16: e-mail | D16: :
B17: h. | C17: Website | D17: :
A18: 4. | B18: Kepala Sekolah
B19: a. | C19: Nama | D19: :
B20: b. | C20: NIP | D20: :
B21: c. | C21: Telp./HP | D21: :
B22: d. | C22: e-mail | D22: :
A23: 5. | B23: Bidang Keahlian | D23: :
B24: Program Keahlian | D24: :
A26: B | B26: PETUGAS VALIDASI
A27: 1. | B27: Nama | D27: :
A28: 2. | B28: Jabatan | D28: :
A29: 3. | B29: Tanggal Validasi | D29: :
A31: PETUNJUK PENGISIAN
A32: 1. | B32: Cermati dokumen KOSP yang akan divalidasi
A33: 2. | B33: Tuliskan identitas sekolah, alamat, nama kepala sekolah, nama dan jabatan petugas validasi
A34: 3. | B34: Bubuhkan tanda cek (√) sesuai keberadaan butir-butir pernyataan
A35: 4. | B35: Catatan petugas validasi diisi dengan temuan, komentar dan saran berdasarkan hasil validasi. Ditulis dengan singkat namun jelas

Sheet Instrumen
A1: INSTRUMEN VALIDASI
A2: KURIKULUM OPERASIONAL SATUAN PENDIDIKAN SMK PUSAT UNGGULAN
A3: TAHUN 2021/2022
A5: No | B5: Aspek yang ditelaah | C5: Komponen KTSP / Indikator | E5: Kondisi | G5: Ket
E6: Ada | F6: Tidak Ada
A7: 1. | B7: Cover/Halaman Judul | C7: 1 | D7: Judul Kurikulum : SMK ………………………
C8: 2 | D8: Tahun Pelajaran
C9: 3 | D9: Logo Sekolah
C10: 4 | D10: Bidang Keahlian
C11: 5 | D11: Program Keahlian
C12: 6 | D12: Alamat Sekolah
A13: 2. | B13: Lembar Penetapan dan Pengesahan | C13: 7 | D13: Rumusan kalimat pengesahan Kurikulum lengkap (Kepala Sekolah, Mitra DU/DI dan Komite Sekolah)
C14: 8 | D14: Terdapat tanda tangan Kepala Sekolah sebagai pihak yang menetapkan beserta stempelnya
C15: 9 | D15: Terdapat tanda tangan Ketua Komite Sekolah beserta stempelnya
C16: 10 | D16: Terdapat tanda tangan Kepala Bidang SMK atas nama Kepala Dinas Pendidikan Prop Jatim sebagai pihak yang mengesahkan beserta stempelnya
A17: 3. | B17: Kata Pengantar | C17: 11 | D17: Ucapan syukur kepada Allah TYME
C18: 12 | D18: Ucapan Terima Kasih kepada Pihak-pihak yang telah membantu
C19: 13 | D19: Permohonan Maaf
C20: 14 | D20: Harapan
A21: 4. | B21: Daftar isi | C21: 15 | D21: Memuat daftar dari seluruh komponen isi yang tersaji dalam dokumen
E22: =COUNTA(E7:E21) -> 0 | F22: =COUNTA(F7:F21) -> 0
A23: BAB I. KARAKTERISTIK SATUAN PENDIDIKAN
A24: 1 | B24: A. Latar Belakang | C24: 1 | D24: Mampu menggambarkan kondisi keunikan sekolah dalam hal peserta didik, guru, tenaga kependidikan, budaya, dan social baik sekolahnya sebagai SMK Pusat Keunggulan maupun Program Keahliannya
A25: 2 | B25: B. Landasan | C25: 2 | D25: Filosofis
C26: 3 | D26: Sosiologis
C27: 4 | D27: Psikopedagogis
C28: 5 | D28: Teoritis
C29: 6 | D29: Hukum
A30: 3 | B30: C. Prinsip Penyusunan Kurikulum Operasional Satuan Pendidikan | C30: 7 | D30: Mampu mengungkap Prinsip Penyusunan Kurikulum Operasional Satuan Pendidikan sebagaimana ketentuan
A31: 4 | B31: D. Proses Penyusunan Kurikulum Operasional Satuan Pendidikan | C31: 8 | D31: Mampu mengungkap Proses Penyusunan Kurikulum Operasional Satuan Pendidikan sebagaimana ketentuan
E32: =COUNTA(E24:E31) -> 0 | F32: =COUNTA(F24:F31) -> 0
A33: BAB II. TUJUAN PENDIDIKAN SATUAN PENDIDIKAN
A34: 1 | B34: A. Tujuan Pendidikan Menengah Kejuruan | C34: 1 | D34: Tujuan Pendidikan Nasional
C35: 2 | D35: Tujuan Pendidikan Menengah Kejuruan
A36: 2 | B36: B. Visi Sekolah | C36: 3 | D36: Menggambarkan bagaimana peserta didik menjadi subjek dalam tujuan jangka panjang sekolah dan nilai-nilai yang dituju
C37: 4 | D37: Nilai-nilai yang mendasari penyelenggaran pembelajaran agar peserta didik dapat mencapai Profil Pelajar Pancasila
A38: 3 | B38: C. Misi Sekolah | C38: 5 | D38: Menjawab bagaimana sekolah mencapai visi
C39: 6 | D39: Memberikan arah dalam mewujudkan visi sekolah sesuai dengan tujuan pendidikan nasional
A40: 4 | B40: D. Tujuan Sekolah | C40: 7 | D40: Tujuan akhir dari kurikulum sekolah yang berdampak pada peserta didik PK
C41: 8 | D41: Tujuan menggambarkan patok-patok (milestone) penting dan selaras dengan misi
...

Sheet Rekapitulasi
A1: HASIL VALIDASI
A2: KURIKULUM OPERASIONAL SATUAN PENDIDIKAN SMK PUSAT UNGGULAN
A3: TAHUN PELAJARAN 2021/2022
A5: NO | B5: KETERANGAN | C5: SKOR PEROLEHAN | D5: KET
A6: 1 | B6: LEMBAR AWAL | C6: =Instrumen!E22 -> 0
A7: 2 | B7: =Instrumen!A23 -> BAB I. KARAKTERISTIK SATUAN PENDIDIKAN | C7: =Instrumen!E32 -> 0
A8: 3 | B8: =Instrumen!A33 -> BAB II. TUJUAN PENDIDIKAN SATUAN PENDIDIKAN | C8: =Instrumen!E45 -> 0
A9: 4 | B9: =Instrumen!A46 -> BAB III. PENGORGANISASIAN PEMBELAJARAN SATUAN PENDIDIKAN | C9: =Instrumen!E62 -> 0
A10: 5 | B10: =Instrumen!A67 -> BAB IV. RENCANA PEMBELAJARAN | C10: =Instrumen!E71 -> 0
A11: 6 | B11: =Instrumen!A72 -> BAB V. PENDAMPINGAN, EVALUASI, DAN PENGEMBANGAN PROFESIONAL | C11: =Instrumen!E77 -> 0
A12: 7 | B12: =Instrumen!A78 -> LAMPIRAN-LAMPIRAN | C12: =Instrumen!E85 -> 0
A13: TOTAL PEROLEHAN SKOR | C13: =SUM(C6:C12) -> 0
A14: NILAI AKHIR = (JML SKOR PEROLEHAN / SKOR MAKSMIMAL) x 100 | C14: =(C13/59)*100 -> 0
A16: CATATAN PETUGAS VALIDASI
C19: Pacitan, September 2021
B20: Mengetahui | C20: Petugas Verifikasi/ Validasi
B21: Kepala Cabang Dinas Pendidikan
B22: Wilayah Kabupaten Pacitan
B25: SINDHU WIDYABADRA, SE., M.A. | C25: Drs. Amanudin Ashari, M.Pd
B26: Pembina | C26: NIP.19650403 199003 1 013
B27: NIP. 19700816 199303 1 009
